BEGIN:VCALENDAR
VERSION:2.0
PRODID:-//Sound Healing Adventure - ECPv6.15.17//NONSGML v1.0//EN
CALSCALE:GREGORIAN
METHOD:PUBLISH
X-WR-CALNAME:Sound Healing Adventure
X-ORIGINAL-URL:https://soundhealingadventure.co.uk
X-WR-CALDESC:Events for Sound Healing Adventure
REFRESH-INTERVAL;VALUE=DURATION:PT1H
X-Robots-Tag:noindex
X-PUBLISHED-TTL:PT1H
BEGIN:VTIMEZONE
TZID:Europe/London
BEGIN:DAYLIGHT
TZOFFSETFROM:+0000
TZOFFSETTO:+0100
TZNAME:BST
DTSTART:20240331T010000
END:DAYLIGHT
BEGIN:STANDARD
TZOFFSETFROM:+0100
TZOFFSETTO:+0000
TZNAME:GMT
DTSTART:20241027T010000
END:STANDARD
BEGIN:DAYLIGHT
TZOFFSETFROM:+0000
TZOFFSETTO:+0100
TZNAME:BST
DTSTART:20250330T010000
END:DAYLIGHT
BEGIN:STANDARD
TZOFFSETFROM:+0100
TZOFFSETTO:+0000
TZNAME:GMT
DTSTART:20251026T010000
END:STANDARD
BEGIN:DAYLIGHT
TZOFFSETFROM:+0000
TZOFFSETTO:+0100
TZNAME:BST
DTSTART:20260329T010000
END:DAYLIGHT
BEGIN:STANDARD
TZOFFSETFROM:+0100
TZOFFSETTO:+0000
TZNAME:GMT
DTSTART:20261025T010000
END:STANDARD
END:VTIMEZONE
BEGIN:VEVENT
DTSTART;TZID=Europe/London:20250904T190000
DTEND;TZID=Europe/London:20250904T200000
DTSTAMP:20260419T202313
CREATED:20250829T214811Z
LAST-MODIFIED:20250902T143122Z
UID:262-1757012400-1757016000@soundhealingadventure.co.uk
SUMMARY:Drumming Circle - "The Old School"\, Wigginton. (YO32 2PU)
DESCRIPTION:Sound Healing Adventure in Association with “York Group of Spiritualists” invites you to their drumming circle. An evening of guided drumming and healing. An ideal way to de-stress the day\, take on new perspectives and enjoy an alternative outlet for your creative endeavours. \n\n\n\nThe session usually lasts an hour but may overrun due to healing and people just enjoying themselves. \n\n\n\nEntry is by contacting “Vince” through the York Group Of Spiritualists Facebook Page (The York Group of Spiritualists)
URL:https://soundhealingadventure.co.uk/event/drumming-circle-the-old-school-wigginton/
LOCATION:North Yorkshire
END:VEVENT
END:VCALENDAR