BEGIN:VCALENDAR
VERSION:2.0
PRODID:-//Sound Healing Adventure - ECPv6.15.17//NONSGML v1.0//EN
CALSCALE:GREGORIAN
METHOD:PUBLISH
X-ORIGINAL-URL:https://soundhealingadventure.co.uk
X-WR-CALDESC:Events for Sound Healing Adventure
REFRESH-INTERVAL;VALUE=DURATION:PT1H
X-Robots-Tag:noindex
X-PUBLISHED-TTL:PT1H
BEGIN:VTIMEZONE
TZID:Europe/London
BEGIN:DAYLIGHT
TZOFFSETFROM:+0000
TZOFFSETTO:+0100
TZNAME:BST
DTSTART:20240331T010000
END:DAYLIGHT
BEGIN:STANDARD
TZOFFSETFROM:+0100
TZOFFSETTO:+0000
TZNAME:GMT
DTSTART:20241027T010000
END:STANDARD
BEGIN:DAYLIGHT
TZOFFSETFROM:+0000
TZOFFSETTO:+0100
TZNAME:BST
DTSTART:20250330T010000
END:DAYLIGHT
BEGIN:STANDARD
TZOFFSETFROM:+0100
TZOFFSETTO:+0000
TZNAME:GMT
DTSTART:20251026T010000
END:STANDARD
BEGIN:DAYLIGHT
TZOFFSETFROM:+0000
TZOFFSETTO:+0100
TZNAME:BST
DTSTART:20260329T010000
END:DAYLIGHT
BEGIN:STANDARD
TZOFFSETFROM:+0100
TZOFFSETTO:+0000
TZNAME:GMT
DTSTART:20261025T010000
END:STANDARD
END:VTIMEZONE
BEGIN:VEVENT
DTSTART;TZID=Europe/London:20251205T193000
DTEND;TZID=Europe/London:20251205T203000
DTSTAMP:20260421T190649
CREATED:20250909T115523Z
LAST-MODIFIED:20250912T151753Z
UID:645-1764963000-1764966600@soundhealingadventure.co.uk
SUMMARY:Sound Bath - "Lawson Hut"\, Badsworth. (WF9 1AF)
DESCRIPTION:   \nSound Bath – Friday 5th December – Badsworth \nSound-Healing-Adventure Welcomes you\, please visit and enjoy a meditative experience to calm the soul\, connect with your higher self\, improve metal health and overall wellbeing. A sound bath not to be missed\, this Friday 5th December 19:30 – 20:30\, at the Lawson Hut in Badsworth (Facebook) Near Ackworth\, Pontefract. https://badsworthvillage.uk/lawson-hut \nEveryone welcome. Come and enjoy a relaxing meditative experience\, let me take you on a journey of discovery\, and self-realization. \nYou’ll need to bring the following items with you\, a pillow\, blanket and a yoga mat to lie on\, if you feel more comfortable sitting this is perfectly acceptable. The sound bath lasts approximately 1 hour but may overrun slightly. \nIt’s an experience you’ll enjoy\, Entry £10 on the door \nNumbers are limited to 14\, so please let me know if you are coming. \nFully Accredited member of the CMA (The Complementary Medical Association). \nOn street parking is available.
URL:https://soundhealingadventure.co.uk/event/sound-bath-the-lawson-hut-badsworth-2/
LOCATION:“The Lawson Hut” Badsworth
CATEGORIES:Sound Bath
END:VEVENT
END:VCALENDAR