BEGIN:VCALENDAR
VERSION:2.0
PRODID:-//Sound Healing Adventure - ECPv6.15.17//NONSGML v1.0//EN
CALSCALE:GREGORIAN
METHOD:PUBLISH
X-ORIGINAL-URL:https://soundhealingadventure.co.uk
X-WR-CALDESC:Events for Sound Healing Adventure
REFRESH-INTERVAL;VALUE=DURATION:PT1H
X-Robots-Tag:noindex
X-PUBLISHED-TTL:PT1H
BEGIN:VTIMEZONE
TZID:Europe/London
BEGIN:DAYLIGHT
TZOFFSETFROM:+0000
TZOFFSETTO:+0100
TZNAME:BST
DTSTART:20240331T010000
END:DAYLIGHT
BEGIN:STANDARD
TZOFFSETFROM:+0100
TZOFFSETTO:+0000
TZNAME:GMT
DTSTART:20241027T010000
END:STANDARD
BEGIN:DAYLIGHT
TZOFFSETFROM:+0000
TZOFFSETTO:+0100
TZNAME:BST
DTSTART:20250330T010000
END:DAYLIGHT
BEGIN:STANDARD
TZOFFSETFROM:+0100
TZOFFSETTO:+0000
TZNAME:GMT
DTSTART:20251026T010000
END:STANDARD
BEGIN:DAYLIGHT
TZOFFSETFROM:+0000
TZOFFSETTO:+0100
TZNAME:BST
DTSTART:20260329T010000
END:DAYLIGHT
BEGIN:STANDARD
TZOFFSETFROM:+0100
TZOFFSETTO:+0000
TZNAME:GMT
DTSTART:20261025T010000
END:STANDARD
END:VTIMEZONE
BEGIN:VEVENT
DTSTART;TZID=Europe/London:20251205T193000
DTEND;TZID=Europe/London:20251205T203000
DTSTAMP:20260421T155920
CREATED:20250909T115523Z
LAST-MODIFIED:20250912T151753Z
UID:645-1764963000-1764966600@soundhealingadventure.co.uk
SUMMARY:Sound Bath - "Lawson Hut"\, Badsworth. (WF9 1AF)
DESCRIPTION:   \nSound Bath – Friday 5th December – Badsworth \nSound-Healing-Adventure Welcomes you\, please visit and enjoy a meditative experience to calm the soul\, connect with your higher self\, improve metal health and overall wellbeing. A sound bath not to be missed\, this Friday 5th December 19:30 – 20:30\, at the Lawson Hut in Badsworth (Facebook) Near Ackworth\, Pontefract. https://badsworthvillage.uk/lawson-hut \nEveryone welcome. Come and enjoy a relaxing meditative experience\, let me take you on a journey of discovery\, and self-realization. \nYou’ll need to bring the following items with you\, a pillow\, blanket and a yoga mat to lie on\, if you feel more comfortable sitting this is perfectly acceptable. The sound bath lasts approximately 1 hour but may overrun slightly. \nIt’s an experience you’ll enjoy\, Entry £10 on the door \nNumbers are limited to 14\, so please let me know if you are coming. \nFully Accredited member of the CMA (The Complementary Medical Association). \nOn street parking is available.
URL:https://soundhealingadventure.co.uk/event/sound-bath-the-lawson-hut-badsworth-2/
LOCATION:“The Lawson Hut” Badsworth
CATEGORIES:Sound Bath
END:VEVENT
BEGIN:VEVENT
DTSTART;TZID=Europe/London:20251217T183000
DTEND;TZID=Europe/London:20251217T193000
DTSTAMP:20260421T155920
CREATED:20250909T120021Z
LAST-MODIFIED:20251218T134454Z
UID:649-1765996200-1765999800@soundhealingadventure.co.uk
SUMMARY:Cancelled - Sound Bath - Loubie's Bookshop and Kitchen\, Scunthorpe. (1st Session) (DN15 6LB).
DESCRIPTION:Sound-Healing-Adventure and Loubie’s Bookshop and Kitchen\, welcomes you to an Evening of relaxation and meditation. Join us for an immersive experience in soothing sounds and vibrations designed to promote inner peace\, mental health\, and spiritual connection. This event offers an opportunity to calm your mind\, connect with your higher self\, and enhance overall well-being. \nWhat to Expect: Experience a sound bath that will guide you into a state of deep relaxation and tranquillity. Allow the meditative sounds to facilitate self-discovery and realization\, helping you to de-stress and recharge your mind\, body\, and soul. \nWhat to Bring: \n\nA pillow\nA blanket\nA yoga mat or a comfortable chair (if you prefer to sit\, this is perfectly acceptable)\nUnfortunately\, we cannot provide these items as we are limited for space when travelling.\n\nThe sound bath lasts approximately one hour\, with a possibility of a slight overrun. \nEveryone is welcome. Don’t miss this opportunity to embark on a journey of healing and self-exploration. \nIt’s an experience you’ll enjoy. \nFully Accredited member of the CMA \nEntry is by ticket purchase through the venue’s Facebook page\, contact Khyah (Loubie) for more details (Facebook) \n  \n 
URL:https://soundhealingadventure.co.uk/event/sound-bath-loubies-bookshop-and-cafe-scunthorpe-1st-session/
CATEGORIES:Sound Bath
END:VEVENT
BEGIN:VEVENT
DTSTART;TZID=Europe/London:20251217T200000
DTEND;TZID=Europe/London:20251217T210000
DTSTAMP:20260421T155920
CREATED:20250909T120053Z
LAST-MODIFIED:20251218T134430Z
UID:651-1766001600-1766005200@soundhealingadventure.co.uk
SUMMARY:Cancelled - Sound Bath - Loubie's Bookshop and Kitchen\, Scunthorpe. (2nd Session)\, (DN15 6LB).
DESCRIPTION:Sound-Healing-Adventure and Loubie’s Bookshop and Kitchen\, welcomes you to an Evening of relaxation and meditation. Join us for an immersive experience in soothing sounds and vibrations designed to promote inner peace\, mental health\, and spiritual connection. This event offers an opportunity to calm your mind\, connect with your higher self\, and enhance overall well-being. \nWhat to Expect: Experience a sound bath that will guide you into a state of deep relaxation and tranquillity. Allow the meditative sounds to facilitate self-discovery and realization\, helping you to de-stress and recharge your mind\, body\, and soul. \nWhat to Bring: \n\nA pillow\nA blanket\nA yoga mat or a comfortable chair (if you prefer to sit\, this is perfectly acceptable)\nUnfortunately\, we cannot provide these items as we are limited for space when travelling.\n\nThe sound bath lasts approximately one hour\, with a possibility of a slight overrun. \nEveryone is welcome. Don’t miss this opportunity to embark on a journey of healing and self-exploration. \nIt’s an experience you’ll enjoy. \nFully Accredited member of the CMA (Complimentary Medicines Association) Simon Alexander Cameron – The Complementary Medical Association \nFully Accredited member of BCMA (British Complementary Medicines Association) \nFully accredited member of Angelic Reiki Association Simon Alexander Cameron – Angelic Reiki Association \nEntry is by ticket purchase through the venue’s Facebook page\, contact Khyah (Loubie) for more details (Facebook)
URL:https://soundhealingadventure.co.uk/event/sound-bath-loubies-bookshop-and-cafe-scunthorpe-2nd-session/
CATEGORIES:Sound Bath
END:VEVENT
BEGIN:VEVENT
DTSTART;TZID=Europe/London:20251218T193000
DTEND;TZID=Europe/London:20251218T203000
DTSTAMP:20260421T155920
CREATED:20250912T152123Z
LAST-MODIFIED:20250912T152134Z
UID:777-1766086200-1766089800@soundhealingadventure.co.uk
SUMMARY:Sound Bath - "Ackworth Parish Rooms"\, (WF7 7JH)
DESCRIPTION:  \nSound Healing Adventure welcomes you to an Evening of relaxation and meditation. Join us for an immersive experience in soothing sounds and vibrations designed to promote inner peace\, mental health\, and spiritual connection. This event offers an opportunity to calm your mind\, connect with your higher self\, and enhance overall well-being. \nWhat to Expect: Experience a sound bath that will guide you into a state of deep relaxation and tranquillity. Allow the meditative sounds to facilitate self-discovery and realization\, helping you to de-stress and recharge your mind\, body\, and soul. \nWhat to Bring: \n\nA pillow\nA blanket\nA yoga mat or a comfortable chair (if you prefer to sit\, this is perfectly acceptable)\nUnfortunately\, we cannot provide these items as we are limited for space when travelling.\n\nThe sound bath lasts approximately one hour\, with a possibility of a slight overrun. \nEveryone is welcome. Don’t miss this opportunity to embark on a journey of healing and self-exploration. Numbers are limited to 14\, so please DM me on Facebook to let me \nknow you are attending. \nIt’s an experience you’ll enjoy. \nFully Accredited member of the CMA (The Complementary Medical Association). \nCard payments accepted
URL:https://soundhealingadventure.co.uk/event/sound-bath-ackworth-parish-rooms-wf7-7jh-2/
LOCATION:Ackworth “Parish Rooms”\, Ackworth Parish Rooms\, Pontefract\, West Yorkshire\, WF7 7JH\, United Kingdom
CATEGORIES:Sound Bath
ORGANIZER;CN="Sound Healing Adventure":MAILTO:sound-healing-adventure@proton.me
END:VEVENT
BEGIN:VEVENT
DTSTART;TZID=Europe/London:20251219T193000
DTEND;TZID=Europe/London:20251219T203000
DTSTAMP:20260421T155920
CREATED:20250912T152407Z
LAST-MODIFIED:20250912T152407Z
UID:779-1766172600-1766176200@soundhealingadventure.co.uk
SUMMARY:Sound Bath - "Lakeside Creative Arts Centre" Newmillerdam\, opposite the "Fox and Hounds" (WF2 6QQ).
DESCRIPTION:  \nSound-Healing-Adventure welcomes you to an Evening of relaxation and meditation. Join us for an immersive experience in soothing sounds and vibrations designed to promote inner peace\, mental health\, and spiritual connection. This event offers an opportunity to calm your mind\, connect with your higher self\, and enhance overall well-being. \nWhat to Expect: Experience a sound bath that will guide you into a state of deep relaxation and tranquillity. Allow the meditative sounds to facilitate self-discovery and realization\, helping you to de-stress and recharge your mind\, body\, and soul. \nWhat to Bring: \n\nA pillow\nA blanket\nA yoga mat or a comfortable chair (if you prefer to sit\, this is perfectly acceptable)\nUnfortunately\, we cannot provide these items as we are limited for space when travelling.\n\nThe sound bath lasts approximately one hour\, with a possibility of a slight overrun. \nEveryone is welcome. Don’t miss this opportunity to embark on a journey of healing and self-exploration. Numbers are limited to 14\, so please DM me on Facebook to let me know you are attending. \nIt’s an experience you’ll enjoy. \nFully Accredited member of the CMA (The Complementary Medical Association). \nEntry is by the lower side door on the left-hand side of the building as you look at it. \nCard Payments accepted
URL:https://soundhealingadventure.co.uk/event/sound-bath-lakeside-creative-arts-centre-newmillerdam-opposite-the-fox-and-hounds-wf2-6qq-2/
CATEGORIES:Sound Bath
END:VEVENT
END:VCALENDAR