BEGIN:VCALENDAR
VERSION:2.0
PRODID:-//Sound Healing Adventure - ECPv6.15.17//NONSGML v1.0//EN
CALSCALE:GREGORIAN
METHOD:PUBLISH
X-ORIGINAL-URL:https://soundhealingadventure.co.uk
X-WR-CALDESC:Events for Sound Healing Adventure
REFRESH-INTERVAL;VALUE=DURATION:PT1H
X-Robots-Tag:noindex
X-PUBLISHED-TTL:PT1H
BEGIN:VTIMEZONE
TZID:Europe/London
BEGIN:DAYLIGHT
TZOFFSETFROM:+0000
TZOFFSETTO:+0100
TZNAME:BST
DTSTART:20250330T010000
END:DAYLIGHT
BEGIN:STANDARD
TZOFFSETFROM:+0100
TZOFFSETTO:+0000
TZNAME:GMT
DTSTART:20251026T010000
END:STANDARD
BEGIN:DAYLIGHT
TZOFFSETFROM:+0000
TZOFFSETTO:+0100
TZNAME:BST
DTSTART:20260329T010000
END:DAYLIGHT
BEGIN:STANDARD
TZOFFSETFROM:+0100
TZOFFSETTO:+0000
TZNAME:GMT
DTSTART:20261025T010000
END:STANDARD
BEGIN:DAYLIGHT
TZOFFSETFROM:+0000
TZOFFSETTO:+0100
TZNAME:BST
DTSTART:20270328T010000
END:DAYLIGHT
BEGIN:STANDARD
TZOFFSETFROM:+0100
TZOFFSETTO:+0000
TZNAME:GMT
DTSTART:20271031T010000
END:STANDARD
END:VTIMEZONE
BEGIN:VEVENT
DTSTART;TZID=Europe/London:20260212T190000
DTEND;TZID=Europe/London:20260212T201500
DTSTAMP:20260421T094716
CREATED:20260210T091050Z
LAST-MODIFIED:20260210T091144Z
UID:1601-1770922800-1770927300@soundhealingadventure.co.uk
SUMMARY:Sound Bath - "The Old School House" Wigginton (YO32 2PU).
DESCRIPTION:      \nSound Healing Adventure  in collaboration with “The Blue Butterfly” and in association with “York group of Spiritualists” or (The York Group of Spiritualists | Facebook) \nAdventure welcomes you to an Evening of relaxation and meditation. Join us for an immersive experience in soothing sounds and vibrations designed to promote inner peace\, mental health\, and spiritual connection. This event offers an opportunity to calm your mind\, connect with your higher self\, and enhance overall well-being. A sound bath not to be missed\, this Thursday 12th February 2026\,  19:00 – 20:15\, at the Old School House in Wigginton. \nWhat to Expect: Experience a sound bath that will guide you into a state of deep relaxation and tranquillity. Allow the meditative sounds to facilitate self-discovery and realization\, helping you to de-stress and recharge your mind\, body\, and soul. \nWhat to Bring: \n\nA pillow\nA blanket\nA yoga mat or a comfortable chair (if you prefer to sit\, this is perfectly acceptable)\nUnfortunately\, we cannot provide these items as we are limited for space when travelling.\n\nThe sound bath lasts approximately one hour\, with a possibility of a slight overrun. (no more than 1 hour and 15) \nEveryone is welcome. Don’t miss this opportunity to embark on a journey of healing and self-exploration. Places are limited to 18 and regularly fill up. \nIt’s an experience you’ll enjoy. \nFully Accredited member of the CMA \nEntry is by contacting “Vince” through the Facebook page.
URL:https://soundhealingadventure.co.uk/event/sound-bath-the-old-school-house-wigginton-yo32-2pu-2/
LOCATION:“The Old School House” Wigginton
CATEGORIES:Sound Bath
ORGANIZER;CN="Sound Healing Adventure":MAILTO:sound-healing-adventure@proton.me
END:VEVENT
END:VCALENDAR