BEGIN:VCALENDAR
VERSION:2.0
PRODID:-//Sound Healing Adventure - ECPv6.15.17//NONSGML v1.0//EN
CALSCALE:GREGORIAN
METHOD:PUBLISH
X-WR-CALNAME:Sound Healing Adventure
X-ORIGINAL-URL:https://soundhealingadventure.co.uk
X-WR-CALDESC:Events for Sound Healing Adventure
REFRESH-INTERVAL;VALUE=DURATION:PT1H
X-Robots-Tag:noindex
X-PUBLISHED-TTL:PT1H
BEGIN:VTIMEZONE
TZID:Europe/London
BEGIN:DAYLIGHT
TZOFFSETFROM:+0000
TZOFFSETTO:+0100
TZNAME:BST
DTSTART:20240331T010000
END:DAYLIGHT
BEGIN:STANDARD
TZOFFSETFROM:+0100
TZOFFSETTO:+0000
TZNAME:GMT
DTSTART:20241027T010000
END:STANDARD
BEGIN:DAYLIGHT
TZOFFSETFROM:+0000
TZOFFSETTO:+0100
TZNAME:BST
DTSTART:20250330T010000
END:DAYLIGHT
BEGIN:STANDARD
TZOFFSETFROM:+0100
TZOFFSETTO:+0000
TZNAME:GMT
DTSTART:20251026T010000
END:STANDARD
BEGIN:DAYLIGHT
TZOFFSETFROM:+0000
TZOFFSETTO:+0100
TZNAME:BST
DTSTART:20260329T010000
END:DAYLIGHT
BEGIN:STANDARD
TZOFFSETFROM:+0100
TZOFFSETTO:+0000
TZNAME:GMT
DTSTART:20261025T010000
END:STANDARD
END:VTIMEZONE
BEGIN:VEVENT
DTSTART;TZID=Europe/London:20251110T190000
DTEND;TZID=Europe/London:20251110T200000
DTSTAMP:20260421T160258
CREATED:20250924T173717Z
LAST-MODIFIED:20251004T214811Z
UID:799-1762801200-1762804800@soundhealingadventure.co.uk
SUMMARY:Drumming Circle - "Loubie's Bookshop & Cafe" - Scunthorpe
DESCRIPTION:Sound Healing Adventure welcomes you to Loubie’s Drum Circle. An opportunity to de-stress\, feel the rhythm\, connect with your inner tribal self\, An “hour” of guided drumming\, freestyle and healing. \nAlthough we say an hour\, it usually lasts substantially longer due to the healing session. \nWe’d prefer it if you brought along your own drum\, However\, we do have limited numbers of spare drums\, on a first come first served basis. \nEntry is by ticket purchase through the venue’s Facebook page\, contact Khyah (Loubie’s) for more details (Facebook)
URL:https://soundhealingadventure.co.uk/event/drumming-circle-loubies-bookshop-cafe-scunthorpe/
LOCATION:“Loubie’s Bookshop and Kitchen” Scunthorpe
CATEGORIES:Drum Circle
END:VEVENT
END:VCALENDAR